BEGIN:VCALENDAR
PRODID:-//hacksw/handcal//NONSGML v1.0//EN
VERSION:2.0
METHOD:PUBLISH
BEGIN:VEVENT
DTSTART:20240227T223000Z
DTEND:20240228T003000Z
LOCATION:Bowlero Jupiter
UID:2509420240227T223000ZSocial Event - Bowlero Jupiter
DTSTAMP:20260421T085455Z
DESCRIPTION:\n\n \nThe Palm Beach County Estate Planning Council\n Bowling Social Event\n \nTuesday, February 27, 2024\n5:30 P.M. to 7:30 P.M.\n \nBowlero Jupiter\n 350 Maplewood Drive\nJupiter, FL 33458\n \nSTRIKE. SPARE. SPLIT. We are excited to announce that the Council has scheduled a fun social event at Bowlero Jupiter. Dust off those bowling shoes and bowling balls, and join us! Bowlero is an interactive bowling alley and arcade. Each attendee will be provided 2 drink tickets valid for liquor, beer or wine. Cash bar thereafter. A wide variety of hors d'oeuvres will be served. Reserved bowling lanes and shoes included.\n \n \n \nA very special thanks to our Ruby Sponsor for making this event possible:\n \n\n
SUMMARY:Social Event - Bowlero Jupiter - Palm Beach County Estate Planning Council 
PRIORITY:3
BEGIN:VALARM
TRIGGER:PT18H
ACTION:DISPLAY
DESCRIPTION:Reminder
END:VALARM
END:VEVENT
END:VCALENDAR