BEGIN:VCALENDAR
PRODID:-//hacksw/handcal//NONSGML v1.0//EN
VERSION:2.0
METHOD:PUBLISH
BEGIN:VEVENT
DTSTART:20220303T123000Z
DTEND:20220303T141500Z
LOCATION:North Palm Beach Country Club
UID:2121320220303T123000ZRoundtable Continental Breakfast: Well Being Trust Planning
DTSTAMP:20260423T233638Z
DESCRIPTION:\nRegistration for this event is closed. Please contact Jaci Farina at admin@pbcepc.org\nto be added to the waitlist.Thank you!\n \nThe Palm Beach County Estate Planning Council invites the\n 2021-22 dues current members to the\n\nThursday, March 3, 2022\n \n Roundtable Discussion Continental Breakfast\n \nNorth Palm Beach Country Club\n 951 US Highway 1\nNorth Palm Beach, FL 33408\n \n7:30 AM Coffee and Networking\n 8:00 AM Presentation\n \n         \n\nGuest Speakers: Richard S. Franklin, Member, Franklin Karibjanian & Law PLLC \n\nand\n Raymond C. Odom, Senior Vice President at Northern Trust \n \nTopic:  Well-Being Trusts – The Future of Imbuing Trusts with Positivity, Meaning and Purpose\n \n \n \nPlease register by February 22, 2022\n \n\nGenerously Sponsored By\n \n\n \nCE Credit Applied For    \n \n \n
SUMMARY:Roundtable Continental Breakfast: Well Being Trust Planning - Palm Beach County Estate Planning Council 
PRIORITY:3
BEGIN:VALARM
TRIGGER:PT18H
ACTION:DISPLAY
DESCRIPTION:Reminder
END:VALARM
END:VEVENT
END:VCALENDAR