BEGIN:VCALENDAR
PRODID:-//hacksw/handcal//NONSGML v1.0//EN
VERSION:2.0
METHOD:PUBLISH
BEGIN:VEVENT
DTSTART:20220215T123000Z
DTEND:20220215T141500Z
LOCATION:North Palm Beach Country Club
UID:2121220220215T123000ZFebruary Membership Meeting: Family Office Viewpoint - Risk, Reward and Returns
DTSTAMP:20260421T102911Z
DESCRIPTION:\nThe Palm Beach County Estate Planning Council\n invites the 2021-2022 dues current members to the\n\n Tuesday, February 15, 2022 Breakfast Meeting\n \nNorth Palm Beach Country Club\n 951 US Highway 1\n North Palm Beach, FL 33408\n \n7:30 AM Coffee and Networking\n 8:00 AM Presentation\n \nGuest Speaker: Marc DePaul with Renegade Management\nâTopic:  Family Office Viewpoint - Risk, Reward and Returns\n \nPlease register by February 6, 2022\n \nThe Council's top priority is the health and safety of our members, presenters, sponsors and other event attendees. Therefore, due to the current Covid-19 pandemic, this event is being offered in a hybrid format (in-person and virtual). Please choose your attendance type when registering. For those attending virtually, a link will be emailed prior to the event. Thank you for your patience as we navigate through this time.\n \n\nGenerously Sponsored By\n \nDiamond Sponsors\n \n  \n \n\n \nPlatinum Sponsors\n \n\n \n\n \n\n \n\n \n\n \n \n \nGold Sponsors\n \n\n \n\n \n\n \n \n \n \n \n \n
SUMMARY:February Membership Meeting: Family Office Viewpoint - Risk, Reward and Returns - Palm Beach County Estate Planning Council 
PRIORITY:3
BEGIN:VALARM
TRIGGER:PT18H
ACTION:DISPLAY
DESCRIPTION:Reminder
END:VALARM
END:VEVENT
END:VCALENDAR