BEGIN:VCALENDAR
PRODID:-//hacksw/handcal//NONSGML v1.0//EN
VERSION:2.0
METHOD:PUBLISH
BEGIN:VEVENT
DTSTART:20190501T213000Z
DTEND:20190502T000000Z
LOCATION:Mirasol Country Club
UID:1624120190501T213000ZMay Membership Dinner Meeting- International Taxes
DTSTAMP:20260421T101535Z
DESCRIPTION:\nRegistration for this event has been closed as of April 30th.  Please contact Wanda Doumar, Administrator, regarding seating availability at 561-310-5442 or admin@pbcpec.org.\nAndrew Leonard, CPA\n Associate Director of International Tax Services\n \nExperience:\nAndrew Leonard has provided tax structuring, pre-immigration planning and a wide array of international tax and consulting services for more than 10 years.\n \nAn advisor with a broad range of experience, Leonard works with international companies, entrepreneurs, families and foreign trusts. He assists with inbound and outbound planning and acquisitions of property and other assets.\nAreas of Focus:\n International tax compliance\n Pre-immigration planning\n FIRPTA and tax withholding\n Tax issues relating to Green Cards, visa and EB5\n Foreign trusts\n Export tax incentives and IC-DISC\n Foreign account reporting\n International tax structuring\n \n\n Offshore Reporting assistance\n PFIC issues\n\nKey Industries Served:\n U.S. immigrants\n Expatriates\n Multi-national families\n Multi-national companies\n Closely held foreign businesses\n Foreign investment in U.S. real estate \n \nAffiliations:\n\nAmerican Institute of Certified Public Accountants (AICPA)\n Florida Institute of Certified Public Accountants (FICPA)\n \nEducation:\nFlorida Atlantic University – Master of Science in Business Administration\n University of North Carolina at Greensboro - Bachelor of Science in Accounting\n \n \n \nPBCEPC appreicates the support of Platinum Sponsors:\n     \n \nGold Sponsors:\n           \n
SUMMARY:May Membership Dinner Meeting- International Taxes - Palm Beach County Estate Planning Council 
PRIORITY:3
BEGIN:VALARM
TRIGGER:PT18H
ACTION:DISPLAY
DESCRIPTION:Reminder
END:VALARM
END:VEVENT
END:VCALENDAR